BEGIN:VCALENDAR
VERSION:2.0
PRODID:-//Historisch Genootschap Nieuwkoop en omgeving - ECPv6.15.20//NONSGML v1.0//EN
CALSCALE:GREGORIAN
METHOD:PUBLISH
X-ORIGINAL-URL:https://www.hgnieuwkoop.nl
X-WR-CALDESC:Evenementen voor Historisch Genootschap Nieuwkoop en omgeving
REFRESH-INTERVAL;VALUE=DURATION:PT1H
X-Robots-Tag:noindex
X-PUBLISHED-TTL:PT1H
BEGIN:VTIMEZONE
TZID:Europe/Amsterdam
BEGIN:DAYLIGHT
TZOFFSETFROM:+0100
TZOFFSETTO:+0200
TZNAME:CEST
DTSTART:20240331T010000
END:DAYLIGHT
BEGIN:STANDARD
TZOFFSETFROM:+0200
TZOFFSETTO:+0100
TZNAME:CET
DTSTART:20241027T010000
END:STANDARD
BEGIN:DAYLIGHT
TZOFFSETFROM:+0100
TZOFFSETTO:+0200
TZNAME:CEST
DTSTART:20250330T010000
END:DAYLIGHT
BEGIN:STANDARD
TZOFFSETFROM:+0200
TZOFFSETTO:+0100
TZNAME:CET
DTSTART:20251026T010000
END:STANDARD
BEGIN:DAYLIGHT
TZOFFSETFROM:+0100
TZOFFSETTO:+0200
TZNAME:CEST
DTSTART:20260329T010000
END:DAYLIGHT
BEGIN:STANDARD
TZOFFSETFROM:+0200
TZOFFSETTO:+0100
TZNAME:CET
DTSTART:20261025T010000
END:STANDARD
END:VTIMEZONE
BEGIN:VEVENT
DTSTART;TZID=Europe/Amsterdam:20250105T130000
DTEND;TZID=Europe/Amsterdam:20250105T160000
DTSTAMP:20260421T113548
CREATED:20250104T165448Z
LAST-MODIFIED:20250104T182500Z
UID:1469-1736082000-1736092800@www.hgnieuwkoop.nl
SUMMARY:Maandthema in januari 2025: Spoorlijn Uithoorn - Alphen a/d Rijn
DESCRIPTION:Op 5 en 19 januari bent u weer van harte welkom in de ontmoetingsruimte van het Historisch Genootschap Nieuwkoop en Omstreken op de Zevensprong\, Noordenseweg 23b\, Nieuwkoop. \nThema is de oude spoorlijn tussen Uithoorn en Alphen aan den Rijn\, met een station in Nieuwkoop langs de Nieuwveenseweg (zie foto).\nUiteraard bent u ook welkom als u andere vragen of interesses heeft en vooral als u ons meer informatie kan aanleveren over bovenstaand of andere onderwerpen. \n 
URL:https://www.hgnieuwkoop.nl/event/maandthema-in-januari-2025-spoorlijn-uithoorn-alphen-aan-den-rijn/
LOCATION:De Zevensprong\, Noordenseweg 23b\, Nieuwkoop\, Zuid Holland\, 2421XW\, Nederland
ATTACH;FMTTYPE=image/jpeg:https://www.hgnieuwkoop.nl/wp-content/uploads/2025/01/05132.jpg
ORGANIZER;CN="Historisch Genootschap Nieuwkoop en Omstreken":MAILTO:info@hgnieuwkoop.nl
END:VEVENT
END:VCALENDAR