BEGIN:VCALENDAR
VERSION:2.0
PRODID:-//Historisch Genootschap Nieuwkoop en omgeving - ECPv6.15.20//NONSGML v1.0//EN
CALSCALE:GREGORIAN
METHOD:PUBLISH
X-WR-CALNAME:Historisch Genootschap Nieuwkoop en omgeving
X-ORIGINAL-URL:https://www.hgnieuwkoop.nl
X-WR-CALDESC:Evenementen voor Historisch Genootschap Nieuwkoop en omgeving
REFRESH-INTERVAL;VALUE=DURATION:PT1H
X-Robots-Tag:noindex
X-PUBLISHED-TTL:PT1H
BEGIN:VTIMEZONE
TZID:Europe/Amsterdam
BEGIN:DAYLIGHT
TZOFFSETFROM:+0100
TZOFFSETTO:+0200
TZNAME:CEST
DTSTART:20240331T010000
END:DAYLIGHT
BEGIN:STANDARD
TZOFFSETFROM:+0200
TZOFFSETTO:+0100
TZNAME:CET
DTSTART:20241027T010000
END:STANDARD
BEGIN:DAYLIGHT
TZOFFSETFROM:+0100
TZOFFSETTO:+0200
TZNAME:CEST
DTSTART:20250330T010000
END:DAYLIGHT
BEGIN:STANDARD
TZOFFSETFROM:+0200
TZOFFSETTO:+0100
TZNAME:CET
DTSTART:20251026T010000
END:STANDARD
BEGIN:DAYLIGHT
TZOFFSETFROM:+0100
TZOFFSETTO:+0200
TZNAME:CEST
DTSTART:20260329T010000
END:DAYLIGHT
BEGIN:STANDARD
TZOFFSETFROM:+0200
TZOFFSETTO:+0100
TZNAME:CET
DTSTART:20261025T010000
END:STANDARD
END:VTIMEZONE
BEGIN:VEVENT
DTSTART;TZID=Europe/Amsterdam:20250119T130000
DTEND;TZID=Europe/Amsterdam:20250119T160000
DTSTAMP:20260421T142659
CREATED:20250113T095936Z
LAST-MODIFIED:20250113T095936Z
UID:1498-1737291600-1737302400@www.hgnieuwkoop.nl
SUMMARY:In het spoor van Bello….
DESCRIPTION:Voor de treinliefhebbers en overige belangstellenden extra informatie over de Haarlemmermeerspoorlijn\, o.a. verzorgd door dhr. Cock Willers\, bekend van lezingen en exposities over dit onderwerp. \nZie verder: https://www.hgnieuwkoop.nl/publicaties/uncategorized/in-het-spoor-van-bello/
URL:https://www.hgnieuwkoop.nl/event/in-het-spoor-van-bello/
LOCATION:De Zevensprong\, Noordenseweg 23b\, Nieuwkoop\, Zuid Holland\, 2421XW\, Nederland
CATEGORIES:Ontmoetingen
ATTACH;FMTTYPE=image/jpeg:https://www.hgnieuwkoop.nl/wp-content/uploads/2025/01/station-Nieuwkoop-coll-familie-Bots.jpg
ORGANIZER;CN="Historisch Genootschap Nieuwkoop en Omstreken":MAILTO:info@hgnieuwkoop.nl
END:VEVENT
BEGIN:VEVENT
DTSTART;TZID=Europe/Amsterdam:20250119T130000
DTEND;TZID=Europe/Amsterdam:20250119T160000
DTSTAMP:20260421T142659
CREATED:20250113T214259Z
LAST-MODIFIED:20250113T221433Z
UID:1503-1737291600-1737302400@www.hgnieuwkoop.nl
SUMMARY:Nog één keer naar de winkel van BOTS! Niet kopen\, maar kijken…!.
DESCRIPTION:In samenwerking met de Erven Bots organiseert het HGN een expositie over de winkel van de Fa. A.\nBots in de oude winkel aan de Dorpsstraat in Nieuwkoop. \nZie verder: https://www.hgnieuwkoop.nl/evenementen/nog-een-keer-naar-de-winkel-van-bots-niet-kopen-maar-kijken/
URL:https://www.hgnieuwkoop.nl/event/nog-een-keer-naar-de-winkel-van-bots-niet-kopen-maar-kijken-2/
LOCATION:Fa. Bots\, Dorpsstraat 121\, Nieuwkoop
CATEGORIES:Expositie
ATTACH;FMTTYPE=image/jpeg:https://www.hgnieuwkoop.nl/wp-content/uploads/2025/01/Bots-oude-reclame-zwarte-balk-en-tekst.jpg
ORGANIZER;CN="Historisch Genootschap Nieuwkoop en Omstreken":MAILTO:info@hgnieuwkoop.nl
END:VEVENT
END:VCALENDAR