BEGIN:VCALENDAR
VERSION:2.0
PRODID:-//Historisch Genootschap Nieuwkoop en omgeving - ECPv6.15.20//NONSGML v1.0//EN
CALSCALE:GREGORIAN
METHOD:PUBLISH
X-WR-CALNAME:Historisch Genootschap Nieuwkoop en omgeving
X-ORIGINAL-URL:https://www.hgnieuwkoop.nl
X-WR-CALDESC:Evenementen voor Historisch Genootschap Nieuwkoop en omgeving
REFRESH-INTERVAL;VALUE=DURATION:PT1H
X-Robots-Tag:noindex
X-PUBLISHED-TTL:PT1H
BEGIN:VTIMEZONE
TZID:Europe/Amsterdam
BEGIN:DAYLIGHT
TZOFFSETFROM:+0100
TZOFFSETTO:+0200
TZNAME:CEST
DTSTART:20240331T010000
END:DAYLIGHT
BEGIN:STANDARD
TZOFFSETFROM:+0200
TZOFFSETTO:+0100
TZNAME:CET
DTSTART:20241027T010000
END:STANDARD
BEGIN:DAYLIGHT
TZOFFSETFROM:+0100
TZOFFSETTO:+0200
TZNAME:CEST
DTSTART:20250330T010000
END:DAYLIGHT
BEGIN:STANDARD
TZOFFSETFROM:+0200
TZOFFSETTO:+0100
TZNAME:CET
DTSTART:20251026T010000
END:STANDARD
BEGIN:DAYLIGHT
TZOFFSETFROM:+0100
TZOFFSETTO:+0200
TZNAME:CEST
DTSTART:20260329T010000
END:DAYLIGHT
BEGIN:STANDARD
TZOFFSETFROM:+0200
TZOFFSETTO:+0100
TZNAME:CET
DTSTART:20261025T010000
END:STANDARD
END:VTIMEZONE
BEGIN:VEVENT
DTSTART;TZID=Europe/Amsterdam:20250126T130000
DTEND;TZID=Europe/Amsterdam:20250126T160000
DTSTAMP:20260421T142657
CREATED:20250113T215019Z
LAST-MODIFIED:20250113T215150Z
UID:1507-1737896400-1737907200@www.hgnieuwkoop.nl
SUMMARY:Nog één keer naar de winkel van BOTS! Niet kopen\, maar kijken…!.
DESCRIPTION:In samenwerking met de Erven Bots organiseert het HGN een expositie over de winkel van de Fa. A.\nBots in de oude winkel aan de Dorpsstraat in Nieuwkoop. \nZie verder: https://www.hgnieuwkoop.nl/evenementen/nog-een-keer-naar-de-winkel-van-bots-niet-kopen-maar-kijken/
URL:https://www.hgnieuwkoop.nl/event/nog-een-keer-naar-de-winkel-van-bots-niet-kopen-maar-kijken-4/
LOCATION:Fa. Bots\, Dorpsstraat 121\, Nieuwkoop
CATEGORIES:Expositie
ATTACH;FMTTYPE=image/jpeg:https://www.hgnieuwkoop.nl/wp-content/uploads/2025/01/Bots-oude-reclame-zwarte-balk-en-tekst.jpg
ORGANIZER;CN="Historisch Genootschap Nieuwkoop en Omstreken":MAILTO:info@hgnieuwkoop.nl
END:VEVENT
BEGIN:VEVENT
DTSTART;TZID=Europe/Amsterdam:20250126T130000
DTEND;TZID=Europe/Amsterdam:20250126T160000
DTSTAMP:20260421T142657
CREATED:20250128T095005Z
LAST-MODIFIED:20250128T095005Z
UID:1531-1737896400-1737907200@www.hgnieuwkoop.nl
SUMMARY:Treinliefhebber krijgen nog een kans
DESCRIPTION:De inloopzondagmiddag in het Informatiecentrum van het HGN aan de Noordenseweg werd dermate druk bezocht dat werd besloten de expositie over de Haarlemmermeerspoorlijn ook op zondag 26 januari open te stellen.
URL:https://www.hgnieuwkoop.nl/event/treinliefhebber-krijgen-nog-een-kans/
LOCATION:De Zevensprong\, Noordenseweg 23b\, Nieuwkoop\, Zuid Holland\, 2421XW\, Nederland
CATEGORIES:Expositie
ATTACH;FMTTYPE=image/jpeg:https://www.hgnieuwkoop.nl/wp-content/uploads/2025/01/Haarlemmermeerlijn-scaled.jpg
ORGANIZER;CN="Historisch Genootschap Nieuwkoop en Omstreken":MAILTO:info@hgnieuwkoop.nl
END:VEVENT
END:VCALENDAR