BEGIN:VCALENDAR
VERSION:2.0
PRODID:-//Historisch Genootschap Nieuwkoop en omgeving - ECPv6.15.20//NONSGML v1.0//EN
CALSCALE:GREGORIAN
METHOD:PUBLISH
X-ORIGINAL-URL:https://www.hgnieuwkoop.nl
X-WR-CALDESC:Evenementen voor Historisch Genootschap Nieuwkoop en omgeving
REFRESH-INTERVAL;VALUE=DURATION:PT1H
X-Robots-Tag:noindex
X-PUBLISHED-TTL:PT1H
BEGIN:VTIMEZONE
TZID:Europe/Amsterdam
BEGIN:DAYLIGHT
TZOFFSETFROM:+0100
TZOFFSETTO:+0200
TZNAME:CEST
DTSTART:20240331T010000
END:DAYLIGHT
BEGIN:STANDARD
TZOFFSETFROM:+0200
TZOFFSETTO:+0100
TZNAME:CET
DTSTART:20241027T010000
END:STANDARD
BEGIN:DAYLIGHT
TZOFFSETFROM:+0100
TZOFFSETTO:+0200
TZNAME:CEST
DTSTART:20250330T010000
END:DAYLIGHT
BEGIN:STANDARD
TZOFFSETFROM:+0200
TZOFFSETTO:+0100
TZNAME:CET
DTSTART:20251026T010000
END:STANDARD
BEGIN:DAYLIGHT
TZOFFSETFROM:+0100
TZOFFSETTO:+0200
TZNAME:CEST
DTSTART:20260329T010000
END:DAYLIGHT
BEGIN:STANDARD
TZOFFSETFROM:+0200
TZOFFSETTO:+0100
TZNAME:CET
DTSTART:20261025T010000
END:STANDARD
END:VTIMEZONE
BEGIN:VEVENT
DTSTART;TZID=Europe/Amsterdam:20250202T130000
DTEND;TZID=Europe/Amsterdam:20250202T160000
DTSTAMP:20260421T142705
CREATED:20250113T215555Z
LAST-MODIFIED:20250113T215726Z
UID:1512-1738501200-1738512000@www.hgnieuwkoop.nl
SUMMARY:Nog één keer naar de winkel van BOTS! Niet kopen\, maar kijken…!.
DESCRIPTION:In samenwerking met de Erven Bots organiseert het HGN een expositie over de winkel van de Fa. A.\nBots in de oude winkel aan de Dorpsstraat in Nieuwkoop. \nZie verder: https://www.hgnieuwkoop.nl/evenementen/nog-een-keer-naar-de-winkel-van-bots-niet-kopen-maar-kijken/
URL:https://www.hgnieuwkoop.nl/event/nog-een-keer-naar-de-winkel-van-bots-niet-kopen-maar-kijken-6/
LOCATION:Fa. Bots\, Dorpsstraat 121\, Nieuwkoop
CATEGORIES:Expositie
ATTACH;FMTTYPE=image/jpeg:https://www.hgnieuwkoop.nl/wp-content/uploads/2025/01/Bots-oude-reclame-zwarte-balk-en-tekst.jpg
ORGANIZER;CN="Historisch Genootschap Nieuwkoop en Omstreken":MAILTO:info@hgnieuwkoop.nl
END:VEVENT
BEGIN:VEVENT
DTSTART;TZID=Europe/Amsterdam:20250202T130000
DTEND;TZID=Europe/Amsterdam:20250202T160000
DTSTAMP:20260421T142705
CREATED:20250201T170950Z
LAST-MODIFIED:20250201T170950Z
UID:1561-1738501200-1738512000@www.hgnieuwkoop.nl
SUMMARY:Logementen en Herbergen
DESCRIPTION:Maandthema voor februari is “Logementen en Herbergen”. \nDe ontmoetingsruimte is geopend op 2 en 16 februari van 13:00 tot 16:00 uur. \nUw bent van harte welkom en aarzel niet om ook uw eigen kennis\, foto’s etc. mee te nemen. \n  \n 
URL:https://www.hgnieuwkoop.nl/event/logementen-en-herbergen/
LOCATION:De Zevensprong\, Noordenseweg 23b\, Nieuwkoop\, Zuid Holland\, 2421XW\, Nederland
CATEGORIES:Ontmoetingen
ATTACH;FMTTYPE=image/jpeg:https://www.hgnieuwkoop.nl/wp-content/uploads/2023/04/02279.jpg
ORGANIZER;CN="Historisch Genootschap Nieuwkoop en Omstreken":MAILTO:info@hgnieuwkoop.nl
END:VEVENT
BEGIN:VEVENT
DTSTART;TZID=Europe/Amsterdam:20250202T130000
DTEND;TZID=Europe/Amsterdam:20250202T160000
DTSTAMP:20260421T142705
CREATED:20250226T164951Z
LAST-MODIFIED:20250226T164951Z
UID:1584-1738501200-1738512000@www.hgnieuwkoop.nl
SUMMARY:Shilders van de Haagse School
DESCRIPTION:Maandthema voor maart is “Schllders van de Haagse School” die naar Nieuwkoop en Noorden trokken om zich te laten inspireren door de prachtige omgeving\, het licht\, het water\, de rust ….. Ze verbleven  dan in pensions en herbergen. \n  \nU bent weer van harte welkom in onze ontmoetingsruimte op de Zevensprong van 13:00 tot 16:00 uur.
URL:https://www.hgnieuwkoop.nl/event/shilders-van-de-haagse-school/
LOCATION:De Zevensprong\, Noordenseweg 23b\, Nieuwkoop\, Zuid Holland\, 2421XW\, Nederland
CATEGORIES:Ontmoetingen
ATTACH;FMTTYPE=image/jpeg:https://www.hgnieuwkoop.nl/wp-content/uploads/2025/02/17321.jpg
ORGANIZER;CN="Historisch Genootschap Nieuwkoop en Omstreken":MAILTO:info@hgnieuwkoop.nl
END:VEVENT
END:VCALENDAR