BEGIN:VCALENDAR
VERSION:2.0
PRODID:-//Historisch Genootschap Nieuwkoop en omgeving - ECPv6.15.20//NONSGML v1.0//EN
CALSCALE:GREGORIAN
METHOD:PUBLISH
X-ORIGINAL-URL:https://www.hgnieuwkoop.nl
X-WR-CALDESC:Evenementen voor Historisch Genootschap Nieuwkoop en omgeving
REFRESH-INTERVAL;VALUE=DURATION:PT1H
X-Robots-Tag:noindex
X-PUBLISHED-TTL:PT1H
BEGIN:VTIMEZONE
TZID:Europe/Amsterdam
BEGIN:DAYLIGHT
TZOFFSETFROM:+0100
TZOFFSETTO:+0200
TZNAME:CEST
DTSTART:20240331T010000
END:DAYLIGHT
BEGIN:STANDARD
TZOFFSETFROM:+0200
TZOFFSETTO:+0100
TZNAME:CET
DTSTART:20241027T010000
END:STANDARD
BEGIN:DAYLIGHT
TZOFFSETFROM:+0100
TZOFFSETTO:+0200
TZNAME:CEST
DTSTART:20250330T010000
END:DAYLIGHT
BEGIN:STANDARD
TZOFFSETFROM:+0200
TZOFFSETTO:+0100
TZNAME:CET
DTSTART:20251026T010000
END:STANDARD
BEGIN:DAYLIGHT
TZOFFSETFROM:+0100
TZOFFSETTO:+0200
TZNAME:CEST
DTSTART:20260329T010000
END:DAYLIGHT
BEGIN:STANDARD
TZOFFSETFROM:+0200
TZOFFSETTO:+0100
TZNAME:CET
DTSTART:20261025T010000
END:STANDARD
END:VTIMEZONE
BEGIN:VEVENT
DTSTART;TZID=Europe/Amsterdam:20250504T110000
DTEND;TZID=Europe/Amsterdam:20250505T160000
DTSTAMP:20260421T112801
CREATED:20250314T111601Z
LAST-MODIFIED:20250326T154319Z
UID:1659-1746356400-1746460800@www.hgnieuwkoop.nl
SUMMARY:Gezinsfietstocht Nieuwkoop langs 2de wereldoorlog highlights en oorlogskunst
DESCRIPTION:Gezinsfietstocht op 4 en 5 mei door Nieuwkoop langs ‘highlights’ uit de Tweede Wereldoorlog en expositie ‘Oorlogskunst’ in het Informatiecentrum HGN (tekeningen van een Amerikaanse piloot\, gemaakt in een Duits krijgsgevangenkamp). \nDe gezamenlijke historische clubs in de gemeente Nieuwkoop organiseren een bevrijdingsfietstocht langs highlights uit W.O. II. Deelnemers krijgen een info-boekje met routebeschrijving en een stempelkaart. Ieder museum (Ter Aar\, Nieuwveen en HGNieuwkoop) is opstappunt\, controlepunt en organiseert een kleine expo over een onderwerp uit de oorlog. Deelname is gratis. Met drie stempels ontvangen de deelnemers een herinnering. Een bijdrage t.b.v. de Nederlandse Oorlogsgraven Stichting is altijd welkom. \nHGN expo zal bestaan uit oorlogskunst en info over neergestorte vliegtuigen. \nHet Comité 4/5 mei organiseert in de kern Nieuwkoop een wandeltocht (ook voor rolstoelers). In overleg met HGN is een route uitgestippeld en afgesproken dat het HGNieuwkoop ook voor de wandeltocht het start-/eindpunt is. Deze deelnemers kunnen dan ook de expo bekijken. \nMeer over de 4 en 5 mei evenementen is te vinden onder Nieuws: \nNieuws over 4 en 5 mei activiteiten van HGN \n 
URL:https://www.hgnieuwkoop.nl/event/gezinsfietstocht-nieuwkoop-langs-2de-wereldoorlog-highlights-en-oorlogskunst/
LOCATION:Alle historische verenigingen in de gemeente Nieuwkoop\, Nieuwkoop\, Zuid-Holland\, Netherlands
CATEGORIES:Herdenking
ATTACH;FMTTYPE=image/jpeg:https://www.hgnieuwkoop.nl/wp-content/uploads/2020/02/Dropploeg-nieuwkoop-e1743002248398.jpg
ORGANIZER;CN="Historische verenigingen in de gemeente Nieuwkoop":MAILTO:info@hgnieuwkoop.nl
END:VEVENT
END:VCALENDAR