BEGIN:VCALENDAR
VERSION:2.0
PRODID:-//Historisch Genootschap Nieuwkoop en omgeving - ECPv6.15.20//NONSGML v1.0//EN
CALSCALE:GREGORIAN
METHOD:PUBLISH
X-ORIGINAL-URL:https://www.hgnieuwkoop.nl
X-WR-CALDESC:Evenementen voor Historisch Genootschap Nieuwkoop en omgeving
REFRESH-INTERVAL;VALUE=DURATION:PT1H
X-Robots-Tag:noindex
X-PUBLISHED-TTL:PT1H
BEGIN:VTIMEZONE
TZID:Europe/Amsterdam
BEGIN:DAYLIGHT
TZOFFSETFROM:+0100
TZOFFSETTO:+0200
TZNAME:CEST
DTSTART:20250330T010000
END:DAYLIGHT
BEGIN:STANDARD
TZOFFSETFROM:+0200
TZOFFSETTO:+0100
TZNAME:CET
DTSTART:20251026T010000
END:STANDARD
BEGIN:DAYLIGHT
TZOFFSETFROM:+0100
TZOFFSETTO:+0200
TZNAME:CEST
DTSTART:20260329T010000
END:DAYLIGHT
BEGIN:STANDARD
TZOFFSETFROM:+0200
TZOFFSETTO:+0100
TZNAME:CET
DTSTART:20261025T010000
END:STANDARD
BEGIN:DAYLIGHT
TZOFFSETFROM:+0100
TZOFFSETTO:+0200
TZNAME:CEST
DTSTART:20270328T010000
END:DAYLIGHT
BEGIN:STANDARD
TZOFFSETFROM:+0200
TZOFFSETTO:+0100
TZNAME:CET
DTSTART:20271031T010000
END:STANDARD
END:VTIMEZONE
BEGIN:VEVENT
DTSTART;TZID=Europe/Amsterdam:20260322T130000
DTEND;TZID=Europe/Amsterdam:20260322T160000
DTSTAMP:20260421T115549
CREATED:20260202T141404Z
LAST-MODIFIED:20260202T141404Z
UID:1949-1774184400-1774195200@www.hgnieuwkoop.nl
SUMMARY:Muziekaal Nieuwkoop
DESCRIPTION:Bezoek ons op de Zevensprong en geniet onder het genot van koffie of thee van de foto’s\, video’s\, audio  etc. van muziekanten uit Nieuwkoop\, Noorden en Woerdense Verlaat.
URL:https://www.hgnieuwkoop.nl/event/muziekaal-nieuwkoop-2/
LOCATION:De Zevensprong\, Noordenseweg 23b\, Nieuwkoop\, Zuid Holland\, 2421XW\, Nederland
CATEGORIES:Ontmoetingen
ATTACH;FMTTYPE=image/jpeg:https://www.hgnieuwkoop.nl/wp-content/uploads/2021/09/Tienerkamer1960.jpg
ORGANIZER;CN="Historisch Genootschap Nieuwkoop en Omgeving":MAILTO:info@hgnieuwkoop.nl
END:VEVENT
BEGIN:VEVENT
DTSTART;TZID=Europe/Amsterdam:20260412T130000
DTEND;TZID=Europe/Amsterdam:20260412T160000
DTSTAMP:20260421T115549
CREATED:20260202T142925Z
LAST-MODIFIED:20260202T142925Z
UID:1951-1775998800-1776009600@www.hgnieuwkoop.nl
SUMMARY:Nieuwkoop en Oranje
DESCRIPTION:Bezoek onze ontmoetingsruimte op de Zevensprong en laat u voorlichten of breng zelf kennis en/of foto’s en verhalen mee over het thema Nieuwkoop en Oranje. \nOp de foto Koningin Juliana met burgemeester van der Weijden
URL:https://www.hgnieuwkoop.nl/event/nieuwkoop-en-oranje/
LOCATION:De Zevensprong\, Noordenseweg 23b\, Nieuwkoop\, Zuid Holland\, 2421XW\, Nederland
CATEGORIES:Ontmoetingen
ATTACH;FMTTYPE=image/jpeg:https://www.hgnieuwkoop.nl/wp-content/uploads/2026/02/Koningin-Juliana-Plashuis.jpg
ORGANIZER;CN="Historisch Genootschap Nieuwkoop en Omgeving":MAILTO:info@hgnieuwkoop.nl
END:VEVENT
BEGIN:VEVENT
DTSTART;TZID=Europe/Amsterdam:20260426T130000
DTEND;TZID=Europe/Amsterdam:20260426T160000
DTSTAMP:20260421T115549
CREATED:20260202T143512Z
LAST-MODIFIED:20260202T143512Z
UID:1954-1777208400-1777219200@www.hgnieuwkoop.nl
SUMMARY:Nieuwkoop en Oranje
DESCRIPTION:Bezoek onze ontmoetingsruimte op de Zevensprong en laat u voorlichten of breng zelf kennis en/of foto’s en verhalen mee over het thema Nieuwkoop en Oranje.
URL:https://www.hgnieuwkoop.nl/event/nieuwkoop-en-oranje-2/
LOCATION:De Zevensprong\, Noordenseweg 23b\, Nieuwkoop\, Zuid Holland\, 2421XW\, Nederland
CATEGORIES:Ontmoetingen
ATTACH;FMTTYPE=image/jpeg:https://www.hgnieuwkoop.nl/wp-content/uploads/2026/02/12436.jpg
ORGANIZER;CN="Historisch Genootschap Nieuwkoop en Omgeving":MAILTO:info@hgnieuwkoop.nl
END:VEVENT
BEGIN:VEVENT
DTSTART;TZID=Europe/Amsterdam:20260510T130000
DTEND;TZID=Europe/Amsterdam:20260510T160000
DTSTAMP:20260421T115549
CREATED:20260202T150646Z
LAST-MODIFIED:20260202T151647Z
UID:1957-1778418000-1778428800@www.hgnieuwkoop.nl
SUMMARY:Speelgoed en gezelschapsspellen
DESCRIPTION:Bijeenkomst met als thema speelgoed en spellen in onze ontmoetingsruimte op de Zevensprong.
URL:https://www.hgnieuwkoop.nl/event/speelgoed-en-gezelschapsspellen/
LOCATION:De Zevensprong\, Noordenseweg 23b\, Nieuwkoop\, Zuid Holland\, 2421XW\, Nederland
CATEGORIES:Ontmoetingen
ATTACH;FMTTYPE=image/jpeg:https://www.hgnieuwkoop.nl/wp-content/uploads/2026/02/dobbelstenen.jpg
ORGANIZER;CN="Historisch Genootschap Nieuwkoop en Omstreken":MAILTO:info@hgnieuwkoop.nl
END:VEVENT
BEGIN:VEVENT
DTSTART;TZID=Europe/Amsterdam:20260524T130000
DTEND;TZID=Europe/Amsterdam:20260524T160000
DTSTAMP:20260421T115549
CREATED:20260202T151444Z
LAST-MODIFIED:20260202T151612Z
UID:1960-1779627600-1779638400@www.hgnieuwkoop.nl
SUMMARY:Speelgoed en gezelschapsspellen
DESCRIPTION:Bijeenkomst met als thema speelgoed en spellen in onze ontmoetingsruimte op de Zevensprong.
URL:https://www.hgnieuwkoop.nl/event/speelgoed-en-gezelschapsspellen-2/
LOCATION:De Zevensprong\, Noordenseweg 23b\, Nieuwkoop\, Zuid Holland\, 2421XW\, Nederland
CATEGORIES:Ontmoetingen
ATTACH;FMTTYPE=image/jpeg:https://www.hgnieuwkoop.nl/wp-content/uploads/2026/02/Jojo.jpg
ORGANIZER;CN="Historisch Genootschap Nieuwkoop en Omgeving":MAILTO:info@hgnieuwkoop.nl
END:VEVENT
END:VCALENDAR