BEGIN:VCALENDAR
VERSION:2.0
PRODID:-//Historisch Genootschap Nieuwkoop en omgeving - ECPv6.15.20//NONSGML v1.0//EN
CALSCALE:GREGORIAN
METHOD:PUBLISH
X-WR-CALNAME:Historisch Genootschap Nieuwkoop en omgeving
X-ORIGINAL-URL:https://www.hgnieuwkoop.nl
X-WR-CALDESC:Evenementen voor Historisch Genootschap Nieuwkoop en omgeving
REFRESH-INTERVAL;VALUE=DURATION:PT1H
X-Robots-Tag:noindex
X-PUBLISHED-TTL:PT1H
BEGIN:VTIMEZONE
TZID:Europe/Amsterdam
BEGIN:DAYLIGHT
TZOFFSETFROM:+0100
TZOFFSETTO:+0200
TZNAME:CEST
DTSTART:20250330T010000
END:DAYLIGHT
BEGIN:STANDARD
TZOFFSETFROM:+0200
TZOFFSETTO:+0100
TZNAME:CET
DTSTART:20251026T010000
END:STANDARD
BEGIN:DAYLIGHT
TZOFFSETFROM:+0100
TZOFFSETTO:+0200
TZNAME:CEST
DTSTART:20260329T010000
END:DAYLIGHT
BEGIN:STANDARD
TZOFFSETFROM:+0200
TZOFFSETTO:+0100
TZNAME:CET
DTSTART:20261025T010000
END:STANDARD
BEGIN:DAYLIGHT
TZOFFSETFROM:+0100
TZOFFSETTO:+0200
TZNAME:CEST
DTSTART:20270328T010000
END:DAYLIGHT
BEGIN:STANDARD
TZOFFSETFROM:+0200
TZOFFSETTO:+0100
TZNAME:CET
DTSTART:20271031T010000
END:STANDARD
END:VTIMEZONE
BEGIN:VEVENT
DTSTART;TZID=Europe/Amsterdam:20260308T130000
DTEND;TZID=Europe/Amsterdam:20260308T160000
DTSTAMP:20260421T192016
CREATED:20260201T105700Z
LAST-MODIFIED:20260201T105700Z
UID:1944-1772974800-1772985600@www.hgnieuwkoop.nl
SUMMARY:Muziekaal Nieuwkoop
DESCRIPTION:Bezoek ons op de Zevensprong en geniet onder het genot van koffie of thee van de foto’s\, video’s\, audio  etc. van muziekanten uit Nieuwkoop\, Noorden en Woerdense Verlaat.
URL:https://www.hgnieuwkoop.nl/event/muziekaal-nieuwkoop/
LOCATION:De Zevensprong\, Noordenseweg 23b\, Nieuwkoop\, Zuid Holland\, 2421XW\, Nederland
CATEGORIES:Ontmoetingen
ATTACH;FMTTYPE=image/jpeg:https://www.hgnieuwkoop.nl/wp-content/uploads/2026/02/09485.jpg
ORGANIZER;CN="Historisch Genootschap Nieuwkoop en Omgeving":MAILTO:info@hgnieuwkoop.nl
END:VEVENT
BEGIN:VEVENT
DTSTART;TZID=Europe/Amsterdam:20260319T200000
DTEND;TZID=Europe/Amsterdam:20260319T220000
DTSTAMP:20260421T192016
CREATED:20260312T091020Z
LAST-MODIFIED:20260312T214013Z
UID:1991-1773950400-1773957600@www.hgnieuwkoop.nl
SUMMARY:Lezing De Hollandse Leeuw
DESCRIPTION:Bert van der Lingen houdt een lezing over de Hollandse Leeuw in Nieuwkoop. In opdracht van de eigenaar Hans Disch\, heeft hij een boek geschreven over de rijke geschiedenis van het pand. \nEntree voor leden/donateurs van het HGN gratis\, voor anderen €5\,-\nReserveren niet nodig \nVoor meer info zie: De Hollandse Leeuw \n 
URL:https://www.hgnieuwkoop.nl/event/lezing-de-hollandse-leeuw/
LOCATION:De Kaleidoskoop\, De Verbinding 2\, Nieuwkoop\, Zuid-Holland\, 2421EX\, Netherlands
CATEGORIES:Lezing
ATTACH;FMTTYPE=image/jpeg:https://www.hgnieuwkoop.nl/wp-content/uploads/2026/03/00259.jpg
ORGANIZER;CN="Historisch Genootschap Nieuwkoop en Omgeving":MAILTO:info@hgnieuwkoop.nl
END:VEVENT
BEGIN:VEVENT
DTSTART;TZID=Europe/Amsterdam:20260322T130000
DTEND;TZID=Europe/Amsterdam:20260322T160000
DTSTAMP:20260421T192016
CREATED:20260202T141404Z
LAST-MODIFIED:20260202T141404Z
UID:1949-1774184400-1774195200@www.hgnieuwkoop.nl
SUMMARY:Muziekaal Nieuwkoop
DESCRIPTION:Bezoek ons op de Zevensprong en geniet onder het genot van koffie of thee van de foto’s\, video’s\, audio  etc. van muziekanten uit Nieuwkoop\, Noorden en Woerdense Verlaat.
URL:https://www.hgnieuwkoop.nl/event/muziekaal-nieuwkoop-2/
LOCATION:De Zevensprong\, Noordenseweg 23b\, Nieuwkoop\, Zuid Holland\, 2421XW\, Nederland
CATEGORIES:Ontmoetingen
ATTACH;FMTTYPE=image/jpeg:https://www.hgnieuwkoop.nl/wp-content/uploads/2021/09/Tienerkamer1960.jpg
ORGANIZER;CN="Historisch Genootschap Nieuwkoop en Omgeving":MAILTO:info@hgnieuwkoop.nl
END:VEVENT
END:VCALENDAR